BEGIN:VCALENDAR
VERSION:2.0
PRODID:-//Bort l&#039;Etang - ECPv6.15.20//NONSGML v1.0//EN
CALSCALE:GREGORIAN
METHOD:PUBLISH
X-WR-CALNAME:Bort l&#039;Etang
X-ORIGINAL-URL:https://www.bortletang.fr
X-WR-CALDESC:Évènements pour Bort l&#039;Etang
REFRESH-INTERVAL;VALUE=DURATION:PT1H
X-Robots-Tag:noindex
X-PUBLISHED-TTL:PT1H
BEGIN:VTIMEZONE
TZID:Europe/Paris
BEGIN:DAYLIGHT
TZOFFSETFROM:+0100
TZOFFSETTO:+0200
TZNAME:CEST
DTSTART:20230326T010000
END:DAYLIGHT
BEGIN:STANDARD
TZOFFSETFROM:+0200
TZOFFSETTO:+0100
TZNAME:CET
DTSTART:20231029T010000
END:STANDARD
BEGIN:DAYLIGHT
TZOFFSETFROM:+0100
TZOFFSETTO:+0200
TZNAME:CEST
DTSTART:20240331T010000
END:DAYLIGHT
BEGIN:STANDARD
TZOFFSETFROM:+0200
TZOFFSETTO:+0100
TZNAME:CET
DTSTART:20241027T010000
END:STANDARD
BEGIN:DAYLIGHT
TZOFFSETFROM:+0100
TZOFFSETTO:+0200
TZNAME:CEST
DTSTART:20250330T010000
END:DAYLIGHT
BEGIN:STANDARD
TZOFFSETFROM:+0200
TZOFFSETTO:+0100
TZNAME:CET
DTSTART:20251026T010000
END:STANDARD
END:VTIMEZONE
BEGIN:VEVENT
DTSTART;TZID=Europe/Paris:20240629T190000
DTEND;TZID=Europe/Paris:20240630T010000
DTSTAMP:20260421T123602
CREATED:20240611T103722Z
LAST-MODIFIED:20240611T103722Z
UID:352125-1719687600-1719709200@www.bortletang.fr
SUMMARY:5ème SCENE OUVERTE
DESCRIPTION:Le CAC (Comité d’Animation Culturelle) organise la 5ème « SCENE OUVERTE » avec\, comme chaque année\, un programme musical de qualité et de quoi passer une excellente soirée. \nAu programme : LIBRE ZAÏ- OVERDRINK- OSMOSE – DONNE TOGETHER  et en concert de clôture : METODIK MG \nEntrée gratuite\, buvette et restauration sur place.
URL:https://www.bortletang.fr/evenement_details/5eme-scene-ouverte/
LOCATION:BOULODROME DE BORT\, rue des platanes - près espace Romain Bonnet / salle polyvalente\, BORT L'ETANG\, 63190
CATEGORIES:MANIFESTATIONS ASSOCIATIVES,SPECTACLES
ATTACH;FMTTYPE=image/jpeg:https://www.bortletang.fr/wp-content/uploads/2024/06/SceneOuverte_entete.jpg
END:VEVENT
END:VCALENDAR