BEGIN:VCALENDAR
VERSION:2.0
PRODID:-//Bort l&#039;Etang - ECPv6.15.20//NONSGML v1.0//EN
CALSCALE:GREGORIAN
METHOD:PUBLISH
X-WR-CALNAME:Bort l&#039;Etang
X-ORIGINAL-URL:https://www.bortletang.fr
X-WR-CALDESC:Évènements pour Bort l&#039;Etang
REFRESH-INTERVAL;VALUE=DURATION:PT1H
X-Robots-Tag:noindex
X-PUBLISHED-TTL:PT1H
BEGIN:VTIMEZONE
TZID:Europe/Paris
BEGIN:DAYLIGHT
TZOFFSETFROM:+0100
TZOFFSETTO:+0200
TZNAME:CEST
DTSTART:20230326T010000
END:DAYLIGHT
BEGIN:STANDARD
TZOFFSETFROM:+0200
TZOFFSETTO:+0100
TZNAME:CET
DTSTART:20231029T010000
END:STANDARD
BEGIN:DAYLIGHT
TZOFFSETFROM:+0100
TZOFFSETTO:+0200
TZNAME:CEST
DTSTART:20240331T010000
END:DAYLIGHT
BEGIN:STANDARD
TZOFFSETFROM:+0200
TZOFFSETTO:+0100
TZNAME:CET
DTSTART:20241027T010000
END:STANDARD
BEGIN:DAYLIGHT
TZOFFSETFROM:+0100
TZOFFSETTO:+0200
TZNAME:CEST
DTSTART:20250330T010000
END:DAYLIGHT
BEGIN:STANDARD
TZOFFSETFROM:+0200
TZOFFSETTO:+0100
TZNAME:CET
DTSTART:20251026T010000
END:STANDARD
END:VTIMEZONE
BEGIN:VEVENT
DTSTART;TZID=Europe/Paris:20241111T104500
DTEND;TZID=Europe/Paris:20241111T120000
DTSTAMP:20260425T002023
CREATED:20241029T163949Z
LAST-MODIFIED:20241029T163949Z
UID:352693-1731321900-1731326400@www.bortletang.fr
SUMMARY:Cérémonie du 11 novembre
DESCRIPTION:La population est invitée à la commémoration de l’Armistice du \n11 novembre 1918 qui aura lieu \nLundi 11 novembre 2024\, à 10 heures 45\, \ndevant le monument aux morts. \nUn vin d’honneur clôturera cette manifestation
URL:https://www.bortletang.fr/evenement_details/ceremonie-du-11-novembre-2/
LOCATION:MONUMENT AUX MORTS\, place de la liberté\, BORT L'ETANG\, 63190
CATEGORIES:COMMEMORATIONS
ATTACH;FMTTYPE=image/jpeg:https://www.bortletang.fr/wp-content/uploads/2024/10/Sans-titre.jpg
END:VEVENT
END:VCALENDAR